BEGIN:VCALENDAR
VERSION:2.0
PRODID:-//wp-events-plugin.com//7.2.3.1//EN
TZID:Europe/Amsterdam
X-WR-TIMEZONE:Europe/Amsterdam
BEGIN:VEVENT
UID:2@blikblazers.nl
DTSTART;TZID=Europe/Amsterdam:20220917T140000
DTEND;TZID=Europe/Amsterdam:20220917T170000
DTSTAMP:20220913T200943Z
URL:https://blikblazers.nl/events/blikblazers-project-jampotje/
SUMMARY:BlikBlazers Project JamPotje
DESCRIPTION:BierBlazers promotiemiddag bij Het Oude Vat\, met muzikale onde
 rsteuning van BlikBlazers project JamPotje!
LOCATION:Het Oude Vat\, Sint Annastraat 55\, Gemert\, 5421KB\, Nederland
X-APPLE-STRUCTURED-LOCATION;VALUE=URI;X-ADDRESS=Sint Annastraat 55\, Gemert
 \, 5421KB\, Nederland;X-APPLE-RADIUS=100;X-TITLE=Het Oude Vat:geo:0,0
END:VEVENT
BEGIN:VTIMEZONE
TZID:Europe/Amsterdam
X-LIC-LOCATION:Europe/Amsterdam
BEGIN:DAYLIGHT
DTSTART:20220327T030000
TZOFFSETFROM:+0100
TZOFFSETTO:+0200
TZNAME:CEST
END:DAYLIGHT
END:VTIMEZONE
END:VCALENDAR