BEGIN:VCALENDAR
VERSION:2.0
PRODID:-//wp-events-plugin.com//7.2.3.1//EN
TZID:Europe/Amsterdam
X-WR-TIMEZONE:Europe/Amsterdam
BEGIN:VEVENT
UID:13@blikblazers.nl
DTSTART;TZID=Europe/Amsterdam;VALUE=DATE:20230517
DTEND;TZID=Europe/Amsterdam;VALUE=DATE:20230518
DTSTAMP:20230419T190029Z
URL:https://blikblazers.nl/events/rollende-keukens-festival/
SUMMARY:Rollende Keukens festival
DESCRIPTION:Rollende Keukens\, met What The Frnk &amp\; The Longhorns
CATEGORIES:What The Frnk &amp; the Longhorns
END:VEVENT
BEGIN:VTIMEZONE
TZID:Europe/Amsterdam
X-LIC-LOCATION:Europe/Amsterdam
BEGIN:DAYLIGHT
DTSTART:20230326T030000
TZOFFSETFROM:+0100
TZOFFSETTO:+0200
TZNAME:CEST
END:DAYLIGHT
END:VTIMEZONE
END:VCALENDAR